Package: Rarr Version: 1.6.0 Command: /home/biocbuild/R/R/bin/R CMD check --install=check:Rarr.install-out.txt --library=/home/biocbuild/R/R/site-library --no-vignettes --timings Rarr_1.6.0.tar.gz StartedAt: 2025-01-28 10:22:59 -0000 (Tue, 28 Jan 2025) EndedAt: 2025-01-28 10:25:29 -0000 (Tue, 28 Jan 2025) EllapsedTime: 149.2 seconds RetCode: 0 Status: OK CheckDir: Rarr.Rcheck Warnings: 0