Package: Rarr Version: 1.6.0 Command: /home/biocbuild/R/R/bin/R CMD build --keep-empty-dirs --no-resave-data Rarr StartedAt: 2025-02-04 02:05:31 -0000 (Tue, 04 Feb 2025) EndedAt: 2025-02-04 02:07:29 -0000 (Tue, 04 Feb 2025) EllapsedTime: 117.2 seconds RetCode: 0 Status: OK PackageFile: Rarr_1.6.0.tar.gz PackageFileSize: 1.145 MiB