Package: Rarr Version: 1.6.0 Command: /home/biocbuild/bbs-3.20-bioc/R/bin/R CMD check --install=check:Rarr.install-out.txt --library=/home/biocbuild/bbs-3.20-bioc/R/site-library --timings Rarr_1.6.0.tar.gz StartedAt: 2025-02-04 01:34:38 -0500 (Tue, 04 Feb 2025) EndedAt: 2025-02-04 01:36:56 -0500 (Tue, 04 Feb 2025) EllapsedTime: 138.2 seconds RetCode: 0 Status: OK CheckDir: Rarr.Rcheck Warnings: 0