Package: Rarr Version: 1.6.0 Command: /Library/Frameworks/R.framework/Resources/bin/R CMD INSTALL Rarr StartedAt: 2025-01-27 15:50:15 -0500 (Mon, 27 Jan 2025) EndedAt: 2025-01-27 15:52:22 -0500 (Mon, 27 Jan 2025) EllapsedTime: 127.3 seconds RetCode: 0 Status: OK