Package: Rarr Version: 1.6.0 Command: /Library/Frameworks/R.framework/Resources/bin/R CMD build --keep-empty-dirs --no-resave-data Rarr StartedAt: 2025-01-27 21:48:15 -0500 (Mon, 27 Jan 2025) EndedAt: 2025-01-27 21:51:13 -0500 (Mon, 27 Jan 2025) EllapsedTime: 177.8 seconds RetCode: 0 Status: OK PackageFile: Rarr_1.6.0.tar.gz PackageFileSize: 1.431 MiB