Package: Rarr Version: 1.6.0 Command: /Library/Frameworks/R.framework/Resources/bin/R CMD build --keep-empty-dirs --no-resave-data Rarr StartedAt: 2025-01-28 06:04:05 -0500 (Tue, 28 Jan 2025) EndedAt: 2025-01-28 06:05:30 -0500 (Tue, 28 Jan 2025) EllapsedTime: 84.6 seconds RetCode: 0 Status: OK PackageFile: Rarr_1.6.0.tar.gz PackageFileSize: 1.431 MiB