Package: Rarr Version: 1.6.0 Command: rm -rf Rarr.buildbin-libdir && mkdir Rarr.buildbin-libdir && /Users/biocbuild/BBS/utils/build-universal.sh Rarr_1.6.0.tar.gz /Library/Frameworks/R.framework/Resources/bin/R Rarr.buildbin-libdir StartedAt: 2025-01-29 16:04:55 -0500 (Wed, 29 Jan 2025) EndedAt: 2025-01-29 16:06:04 -0500 (Wed, 29 Jan 2025) EllapsedTime: 69.1 seconds RetCode: 0 Status: OK PackageFile: Rarr_1.6.0.tgz PackageFileSize: 1.421 MiB