Package: RareVariantVis Version: 2.34.0 Command: /home/biocbuild/R/R/bin/R CMD check --install=check:RareVariantVis.install-out.txt --library=/home/biocbuild/R/R/site-library --no-vignettes --timings RareVariantVis_2.34.0.tar.gz StartedAt: 2025-02-04 10:13:35 -0000 (Tue, 04 Feb 2025) EndedAt: 2025-02-04 10:19:46 -0000 (Tue, 04 Feb 2025) EllapsedTime: 370.8 seconds RetCode: 0 Status: OK CheckDir: RareVariantVis.Rcheck Warnings: 0