Package: RareVariantVis Version: 2.34.0 Command: /home/biocbuild/R/R/bin/R CMD build --keep-empty-dirs --no-resave-data RareVariantVis StartedAt: 2025-01-28 02:36:33 -0000 (Tue, 28 Jan 2025) EndedAt: 2025-01-28 02:37:31 -0000 (Tue, 28 Jan 2025) EllapsedTime: 58.0 seconds RetCode: 0 Status: OK PackageFile: RareVariantVis_2.34.0.tar.gz PackageFileSize: 2.751 MiB