Package: RareVariantVis Version: 2.34.0 Command: rm -rf RareVariantVis.buildbin-libdir && mkdir RareVariantVis.buildbin-libdir && F:\biocbuild\bbs-3.20-bioc\R\bin\R.exe CMD INSTALL --build --library=RareVariantVis.buildbin-libdir RareVariantVis_2.34.0.tar.gz StartedAt: 2025-01-28 08:53:50 -0500 (Tue, 28 Jan 2025) EndedAt: 2025-01-28 08:55:13 -0500 (Tue, 28 Jan 2025) EllapsedTime: 83.0 seconds RetCode: 0 Status: OK PackageFile: RareVariantVis_2.34.0.zip PackageFileSize: 2.724 MiB