Package: RareVariantVis Version: 2.34.0 Command: /Library/Frameworks/R.framework/Resources/bin/R CMD INSTALL RareVariantVis StartedAt: 2025-01-27 15:45:35 -0500 (Mon, 27 Jan 2025) EndedAt: 2025-01-27 15:47:10 -0500 (Mon, 27 Jan 2025) EllapsedTime: 94.7 seconds RetCode: 0 Status: OK