Package: RareVariantVis Version: 2.34.0 Command: /Library/Frameworks/R.framework/Resources/bin/R CMD build --keep-empty-dirs --no-resave-data RareVariantVis StartedAt: 2025-03-31 21:15:48 -0400 (Mon, 31 Mar 2025) EndedAt: 2025-03-31 21:17:29 -0400 (Mon, 31 Mar 2025) EllapsedTime: 100.5 seconds RetCode: 0 Status: OK PackageFile: RareVariantVis_2.34.0.tar.gz PackageFileSize: 2.756 MiB