Package: RareVariantVis Version: 2.34.0 Command: /Library/Frameworks/R.framework/Resources/bin/R CMD INSTALL RareVariantVis StartedAt: 2025-02-03 16:07:44 -0500 (Mon, 03 Feb 2025) EndedAt: 2025-02-03 16:08:37 -0500 (Mon, 03 Feb 2025) EllapsedTime: 53.4 seconds RetCode: 0 Status: OK