Package: RankProd Version: 3.32.0 Command: /home/biocbuild/R/R/bin/R CMD build --keep-empty-dirs --no-resave-data RankProd StartedAt: 2025-01-28 02:36:18 -0000 (Tue, 28 Jan 2025) EndedAt: 2025-01-28 02:36:35 -0000 (Tue, 28 Jan 2025) EllapsedTime: 17.0 seconds RetCode: 0 Status: OK PackageFile: RankProd_3.32.0.tar.gz PackageFileSize: 768.5 KiB