Package: RankProd Version: 3.32.0 Command: chmod a+r RankProd -R && F:\biocbuild\bbs-3.20-bioc\R\bin\R.exe CMD build --keep-empty-dirs --no-resave-data RankProd StartedAt: 2025-01-27 21:19:44 -0500 (Mon, 27 Jan 2025) EndedAt: 2025-01-27 21:20:03 -0500 (Mon, 27 Jan 2025) EllapsedTime: 19.3 seconds RetCode: 0 Status: OK PackageFile: RankProd_3.32.0.tar.gz PackageFileSize: 653.3 KiB