Package: RankProd Version: 3.32.0 Command: rm -rf RankProd.buildbin-libdir && mkdir RankProd.buildbin-libdir && F:\biocbuild\bbs-3.20-bioc\R\bin\R.exe CMD INSTALL --build --library=RankProd.buildbin-libdir RankProd_3.32.0.tar.gz StartedAt: 2025-01-28 08:53:46 -0500 (Tue, 28 Jan 2025) EndedAt: 2025-01-28 08:53:59 -0500 (Tue, 28 Jan 2025) EllapsedTime: 12.3 seconds RetCode: 0 Status: OK PackageFile: RankProd_3.32.0.zip PackageFileSize: 753.6 KiB