Package: RandomWalkRestartMH Version: 1.26.0 Command: chmod a+r RandomWalkRestartMH -R && F:\biocbuild\bbs-3.20-bioc\R\bin\R.exe CMD build --keep-empty-dirs --no-resave-data RandomWalkRestartMH StartedAt: 2025-01-30 21:13:50 -0500 (Thu, 30 Jan 2025) EndedAt: 2025-01-30 21:13:54 -0500 (Thu, 30 Jan 2025) EllapsedTime: 4.0 seconds RetCode: 1 Status: ERROR PackageFile: None PackageFileSize: NA