Package: RandomWalkRestartMH Version: 1.26.0 Command: /Library/Frameworks/R.framework/Resources/bin/R CMD INSTALL RandomWalkRestartMH StartedAt: 2025-01-27 16:56:10 -0500 (Mon, 27 Jan 2025) EndedAt: 2025-01-27 16:56:11 -0500 (Mon, 27 Jan 2025) EllapsedTime: 0.3 seconds RetCode: 1 Status: ERROR