Package: RandomWalkRestartMH Version: 1.26.0 Command: /Library/Frameworks/R.framework/Resources/bin/R CMD INSTALL RandomWalkRestartMH StartedAt: 2025-03-31 18:22:36 -0400 (Mon, 31 Mar 2025) EndedAt: 2025-03-31 18:22:37 -0400 (Mon, 31 Mar 2025) EllapsedTime: 0.3 seconds RetCode: 1 Status: ERROR