Package: RaggedExperiment Version: 1.30.0 Command: /home/biocbuild/R/R/bin/R CMD INSTALL RaggedExperiment StartedAt: 2025-02-03 20:31:53 -0000 (Mon, 03 Feb 2025) EndedAt: 2025-02-03 20:32:21 -0000 (Mon, 03 Feb 2025) EllapsedTime: 28.2 seconds RetCode: 0 Status: OK