Package: RaggedExperiment Version: 1.30.0 Command: rm -rf RaggedExperiment.buildbin-libdir && mkdir RaggedExperiment.buildbin-libdir && F:\biocbuild\bbs-3.20-bioc\R\bin\R.exe CMD INSTALL --build --library=RaggedExperiment.buildbin-libdir RaggedExperiment_1.30.0.tar.gz StartedAt: 2025-01-31 09:21:43 -0500 (Fri, 31 Jan 2025) EndedAt: 2025-01-31 09:25:24 -0500 (Fri, 31 Jan 2025) EllapsedTime: 221.1 seconds RetCode: 0 Status: OK PackageFile: RaggedExperiment_1.30.0.zip PackageFileSize: 1.172 MiB