Package: RaggedExperiment Version: 1.30.0 Command: /Library/Frameworks/R.framework/Resources/bin/R CMD check --install=check:RaggedExperiment.install-out.txt --library=/Library/Frameworks/R.framework/Resources/library --no-vignettes --timings RaggedExperiment_1.30.0.tar.gz StartedAt: 2025-01-31 08:34:54 -0500 (Fri, 31 Jan 2025) EndedAt: 2025-01-31 08:40:45 -0500 (Fri, 31 Jan 2025) EllapsedTime: 350.7 seconds RetCode: 0 Status: OK CheckDir: RaggedExperiment.Rcheck Warnings: 0