Package: RaggedExperiment Version: 1.30.0 Command: /Library/Frameworks/R.framework/Resources/bin/R CMD build --keep-empty-dirs --no-resave-data RaggedExperiment StartedAt: 2025-04-01 05:45:20 -0400 (Tue, 01 Apr 2025) EndedAt: 2025-04-01 05:46:04 -0400 (Tue, 01 Apr 2025) EllapsedTime: 44.4 seconds RetCode: 0 Status: OK PackageFile: RaggedExperiment_1.30.0.tar.gz PackageFileSize: 686.7 KiB