Package: RUVnormalize Version: 1.40.0 Command: /home/biocbuild/R/R/bin/R CMD build --keep-empty-dirs --no-resave-data RUVnormalize StartedAt: 2025-02-11 02:09:36 -0000 (Tue, 11 Feb 2025) EndedAt: 2025-02-11 02:09:52 -0000 (Tue, 11 Feb 2025) EllapsedTime: 16.0 seconds RetCode: 0 Status: OK PackageFile: RUVnormalize_1.40.0.tar.gz PackageFileSize: 187 KiB