Package: RUVSeq Version: 1.40.0 Command: /home/biocbuild/R/R/bin/R CMD INSTALL RUVSeq StartedAt: 2025-01-27 21:32:07 -0000 (Mon, 27 Jan 2025) EndedAt: 2025-01-27 21:32:57 -0000 (Mon, 27 Jan 2025) EllapsedTime: 49.8 seconds RetCode: 0 Status: OK