Package: RUVSeq Version: 1.40.0 Command: /Library/Frameworks/R.framework/Resources/bin/R CMD check --install=check:RUVSeq.install-out.txt --library=/Library/Frameworks/R.framework/Resources/library --no-vignettes --timings RUVSeq_1.40.0.tar.gz StartedAt: 2025-01-28 09:32:10 -0500 (Tue, 28 Jan 2025) EndedAt: 2025-01-28 09:43:12 -0500 (Tue, 28 Jan 2025) EllapsedTime: 662.3 seconds RetCode: 0 Status: OK CheckDir: RUVSeq.Rcheck Warnings: 0