Package: RUVSeq Version: 1.40.0 Command: rm -rf RUVSeq.buildbin-libdir && mkdir RUVSeq.buildbin-libdir && /Users/biocbuild/BBS/utils/build-universal.sh RUVSeq_1.40.0.tar.gz /Library/Frameworks/R.framework/Resources/bin/R RUVSeq.buildbin-libdir StartedAt: 2025-02-05 17:36:00 -0500 (Wed, 05 Feb 2025) EndedAt: 2025-02-05 17:36:50 -0500 (Wed, 05 Feb 2025) EllapsedTime: 50.1 seconds RetCode: 0 Status: OK PackageFile: RUVSeq_1.40.0.tgz PackageFileSize: 535.8 KiB