Package: RTopper Version: 1.52.0 Command: /home/biocbuild/R/R/bin/R CMD build --keep-empty-dirs --no-resave-data RTopper StartedAt: 2025-02-11 02:08:30 -0000 (Tue, 11 Feb 2025) EndedAt: 2025-02-11 02:09:36 -0000 (Tue, 11 Feb 2025) EllapsedTime: 66.0 seconds RetCode: 0 Status: OK PackageFile: RTopper_1.52.0.tar.gz PackageFileSize: 1.343 MiB