Package: RTopper Version: 1.52.0 Command: chmod a+r RTopper -R && F:\biocbuild\bbs-3.20-bioc\R\bin\R.exe CMD build --keep-empty-dirs --no-resave-data RTopper StartedAt: 2025-02-10 21:43:31 -0500 (Mon, 10 Feb 2025) EndedAt: 2025-02-10 21:44:59 -0500 (Mon, 10 Feb 2025) EllapsedTime: 88.1 seconds RetCode: 0 Status: OK PackageFile: RTopper_1.52.0.tar.gz PackageFileSize: 1.207 MiB