Package: RTopper Version: 1.52.0 Command: /home/biocbuild/bbs-3.20-bioc/R/bin/R CMD INSTALL RTopper StartedAt: 2025-02-10 15:50:53 -0500 (Mon, 10 Feb 2025) EndedAt: 2025-02-10 15:51:00 -0500 (Mon, 10 Feb 2025) EllapsedTime: 6.8 seconds RetCode: 0 Status: OK