Package: RTopper Version: 1.52.0 Command: /home/biocbuild/bbs-3.20-bioc/R/bin/R CMD check --install=check:RTopper.install-out.txt --library=/home/biocbuild/bbs-3.20-bioc/R/site-library --timings RTopper_1.52.0.tar.gz StartedAt: 2025-02-11 01:51:49 -0500 (Tue, 11 Feb 2025) EndedAt: 2025-02-11 01:53:42 -0500 (Tue, 11 Feb 2025) EllapsedTime: 113.1 seconds RetCode: 0 Status: OK CheckDir: RTopper.Rcheck Warnings: 0