Package: RTopper Version: 1.52.0 Command: /Library/Frameworks/R.framework/Resources/bin/R CMD INSTALL RTopper StartedAt: 2025-02-10 16:17:45 -0500 (Mon, 10 Feb 2025) EndedAt: 2025-02-10 16:18:00 -0500 (Mon, 10 Feb 2025) EllapsedTime: 14.7 seconds RetCode: 0 Status: OK