Package: RTopper Version: 1.52.0 Command: rm -rf RTopper.buildbin-libdir && mkdir RTopper.buildbin-libdir && /Users/biocbuild/BBS/utils/build-universal.sh RTopper_1.52.0.tar.gz /Library/Frameworks/R.framework/Resources/bin/R RTopper.buildbin-libdir StartedAt: 2025-02-11 14:23:46 -0500 (Tue, 11 Feb 2025) EndedAt: 2025-02-11 14:24:06 -0500 (Tue, 11 Feb 2025) EllapsedTime: 20.0 seconds RetCode: 0 Status: OK PackageFile: RTopper_1.52.0.tgz PackageFileSize: 1.374 MiB