Package: RTopper Version: 1.52.0 Command: /Library/Frameworks/R.framework/Resources/bin/R CMD INSTALL RTopper StartedAt: 2025-02-03 17:23:36 -0500 (Mon, 03 Feb 2025) EndedAt: 2025-02-03 17:23:45 -0500 (Mon, 03 Feb 2025) EllapsedTime: 8.3 seconds RetCode: 0 Status: OK