Package: RTopper Version: 1.52.0 Command: /Library/Frameworks/R.framework/Resources/bin/R CMD build --keep-empty-dirs --no-resave-data RTopper StartedAt: 2025-02-04 07:04:58 -0500 (Tue, 04 Feb 2025) EndedAt: 2025-02-04 07:06:16 -0500 (Tue, 04 Feb 2025) EllapsedTime: 78.0 seconds RetCode: 0 Status: OK PackageFile: RTopper_1.52.0.tar.gz PackageFileSize: 1.349 MiB