Package: RTNsurvival Version: 1.30.0 Command: /home/biocbuild/R/R/bin/R CMD INSTALL RTNsurvival StartedAt: 2025-03-31 21:05:48 -0000 (Mon, 31 Mar 2025) EndedAt: 2025-03-31 21:06:31 -0000 (Mon, 31 Mar 2025) EllapsedTime: 42.8 seconds RetCode: 0 Status: OK