Package: RTNsurvival Version: 1.30.0 Command: F:\biocbuild\bbs-3.20-bioc\R\bin\R.exe CMD INSTALL RTNsurvival StartedAt: 2025-01-27 16:59:43 -0500 (Mon, 27 Jan 2025) EndedAt: 2025-01-27 17:00:42 -0500 (Mon, 27 Jan 2025) EllapsedTime: 58.3 seconds RetCode: 0 Status: OK