Package: RTNsurvival Version: 1.30.0 Command: /Library/Frameworks/R.framework/Resources/bin/R CMD INSTALL RTNsurvival StartedAt: 2025-01-27 16:42:23 -0500 (Mon, 27 Jan 2025) EndedAt: 2025-01-27 16:43:34 -0500 (Mon, 27 Jan 2025) EllapsedTime: 71.0 seconds RetCode: 0 Status: OK