Package: RTNsurvival Version: 1.30.0 Command: /Library/Frameworks/R.framework/Resources/bin/R CMD build --keep-empty-dirs --no-resave-data RTNsurvival StartedAt: 2025-03-31 21:35:46 -0400 (Mon, 31 Mar 2025) EndedAt: 2025-03-31 21:37:29 -0400 (Mon, 31 Mar 2025) EllapsedTime: 103.4 seconds RetCode: 0 Status: OK PackageFile: RTNsurvival_1.30.0.tar.gz PackageFileSize: 732.9 KiB