Package: RTN Version: 2.30.0 Command: /home/biocbuild/R/R/bin/R CMD INSTALL RTN StartedAt: 2025-01-27 21:58:53 -0000 (Mon, 27 Jan 2025) EndedAt: 2025-01-27 21:59:42 -0000 (Mon, 27 Jan 2025) EllapsedTime: 49.7 seconds RetCode: 0 Status: OK