Package: RTN Version: 2.30.0 Command: /home/biocbuild/R/R/bin/R CMD check --install=check:RTN.install-out.txt --library=/home/biocbuild/R/R/site-library --no-vignettes --timings RTN_2.30.0.tar.gz StartedAt: 2025-02-04 10:38:32 -0000 (Tue, 04 Feb 2025) EndedAt: 2025-02-04 10:43:58 -0000 (Tue, 04 Feb 2025) EllapsedTime: 326.7 seconds RetCode: 0 Status: OK CheckDir: RTN.Rcheck Warnings: 0