Package: RTN Version: 2.30.0 Command: /home/biocbuild/R/R/bin/R CMD build --keep-empty-dirs --no-resave-data RTN StartedAt: 2025-01-28 02:58:11 -0000 (Tue, 28 Jan 2025) EndedAt: 2025-01-28 03:02:55 -0000 (Tue, 28 Jan 2025) EllapsedTime: 283.1 seconds RetCode: 0 Status: OK PackageFile: RTN_2.30.0.tar.gz PackageFileSize: 10.29 MiB