Package: RTN Version: 2.30.0 Command: F:\biocbuild\bbs-3.20-bioc\R\bin\R.exe CMD INSTALL RTN StartedAt: 2025-01-30 16:48:56 -0500 (Thu, 30 Jan 2025) EndedAt: 2025-01-30 16:49:55 -0500 (Thu, 30 Jan 2025) EllapsedTime: 59.7 seconds RetCode: 0 Status: OK