Package: RTN Version: 2.30.0 Command: chmod a+r RTN -R && F:\biocbuild\bbs-3.20-bioc\R\bin\R.exe CMD build --keep-empty-dirs --no-resave-data RTN StartedAt: 2025-01-30 21:32:28 -0500 (Thu, 30 Jan 2025) EndedAt: 2025-01-30 21:35:59 -0500 (Thu, 30 Jan 2025) EllapsedTime: 210.8 seconds RetCode: 0 Status: OK PackageFile: RTN_2.30.0.tar.gz PackageFileSize: 10.26 MiB