Package: RTN Version: 2.30.0 Command: /Library/Frameworks/R.framework/Resources/bin/R CMD build --keep-empty-dirs --no-resave-data RTN StartedAt: 2025-01-27 22:08:50 -0500 (Mon, 27 Jan 2025) EndedAt: 2025-01-27 22:14:36 -0500 (Mon, 27 Jan 2025) EllapsedTime: 345.5 seconds RetCode: 0 Status: OK PackageFile: RTN_2.30.0.tar.gz PackageFileSize: 10.26 MiB