Package: RTCGAToolbox Version: 2.36.0 Command: F:\biocbuild\bbs-3.20-bioc\R\bin\R.exe CMD INSTALL RTCGAToolbox StartedAt: 2025-03-31 16:06:54 -0400 (Mon, 31 Mar 2025) EndedAt: 2025-03-31 16:07:37 -0400 (Mon, 31 Mar 2025) EllapsedTime: 43.4 seconds RetCode: 0 Status: OK