Package: RTCGA Version: 1.36.0 Command: /home/biocbuild/R/R/bin/R CMD build --keep-empty-dirs --no-resave-data RTCGA StartedAt: 2025-01-28 02:57:55 -0000 (Tue, 28 Jan 2025) EndedAt: 2025-01-28 02:58:13 -0000 (Tue, 28 Jan 2025) EllapsedTime: 18.0 seconds RetCode: 0 Status: OK PackageFile: RTCGA_1.36.0.tar.gz PackageFileSize: 2.5 MiB