Package: RTCGA Version: 1.36.0 Command: /home/biocbuild/bbs-3.20-bioc/R/bin/R CMD INSTALL RTCGA StartedAt: 2025-01-27 16:54:13 -0500 (Mon, 27 Jan 2025) EndedAt: 2025-01-27 16:54:24 -0500 (Mon, 27 Jan 2025) EllapsedTime: 11.5 seconds RetCode: 0 Status: OK