Package: RTCGA Version: 1.36.0 Command: /Library/Frameworks/R.framework/Resources/bin/R CMD build --keep-empty-dirs --no-resave-data RTCGA StartedAt: 2025-01-27 22:08:40 -0500 (Mon, 27 Jan 2025) EndedAt: 2025-01-27 22:09:11 -0500 (Mon, 27 Jan 2025) EllapsedTime: 30.4 seconds RetCode: 0 Status: OK PackageFile: RTCGA_1.36.0.tar.gz PackageFileSize: 2.437 MiB