Package: RTCA Version: 1.58.0 Command: /home/biocbuild/R/R/bin/R CMD INSTALL RTCA StartedAt: 2025-01-27 21:03:13 -0000 (Mon, 27 Jan 2025) EndedAt: 2025-01-27 21:03:34 -0000 (Mon, 27 Jan 2025) EllapsedTime: 20.8 seconds RetCode: 0 Status: OK